Package: gmapR Version: 1.48.0 Command: /home/biocbuild/R/R/bin/R CMD build --keep-empty-dirs --no-resave-data gmapR StartedAt: 2025-03-31 23:52:29 -0000 (Mon, 31 Mar 2025) EndedAt: 2025-04-01 00:02:33 -0000 (Tue, 01 Apr 2025) EllapsedTime: 604.5 seconds RetCode: 0 Status: OK PackageFile: gmapR_1.48.0.tar.gz PackageFileSize: 26.34 MiB