Package: gmapR Version: 1.48.0 Command: /Library/Frameworks/R.framework/Resources/bin/R CMD check --install=check:gmapR.install-out.txt --library=/Library/Frameworks/R.framework/Resources/library --no-vignettes --timings gmapR_1.48.0.tar.gz StartedAt: 2025-04-01 03:48:28 -0400 (Tue, 01 Apr 2025) EndedAt: 2025-04-01 04:01:35 -0400 (Tue, 01 Apr 2025) EllapsedTime: 787.1 seconds RetCode: 0 Status: WARNINGS CheckDir: gmapR.Rcheck Warnings: 7