Package: gmapR Version: 1.48.0 Command: /Library/Frameworks/R.framework/Resources/bin/R CMD build --keep-empty-dirs --no-resave-data gmapR StartedAt: 2025-03-31 19:03:29 -0400 (Mon, 31 Mar 2025) EndedAt: 2025-03-31 19:18:05 -0400 (Mon, 31 Mar 2025) EllapsedTime: 875.7 seconds RetCode: 0 Status: OK PackageFile: gmapR_1.48.0.tar.gz PackageFileSize: 25.99 MiB