Package: globaltest Version: 5.60.0 Command: /home/biocbuild/bbs-3.20-bioc/R/bin/R CMD build --keep-empty-dirs --no-resave-data --md5 globaltest StartedAt: 2025-03-31 17:26:50 -0400 (Mon, 31 Mar 2025) EndedAt: 2025-03-31 17:30:22 -0400 (Mon, 31 Mar 2025) EllapsedTime: 212.2 seconds RetCode: 0 Status: OK PackageFile: globaltest_5.60.0.tar.gz PackageFileSize: 559.4 KiB