Package: globaltest Version: 5.60.0 Command: /Library/Frameworks/R.framework/Resources/bin/R CMD INSTALL globaltest StartedAt: 2025-03-31 16:14:59 -0400 (Mon, 31 Mar 2025) EndedAt: 2025-03-31 16:15:50 -0400 (Mon, 31 Mar 2025) EllapsedTime: 51.0 seconds RetCode: 0 Status: OK