Package: globaltest Version: 5.60.0 Command: /Library/Frameworks/R.framework/Resources/bin/R CMD build --keep-empty-dirs --no-resave-data globaltest StartedAt: 2025-04-01 00:23:02 -0400 (Tue, 01 Apr 2025) EndedAt: 2025-04-01 01:03:02 -0400 (Tue, 01 Apr 2025) EllapsedTime: 2400.1 seconds RetCode: None Status: TIMEOUT PackageFile: None PackageFileSize: NA