Package: globalSeq Version: 1.34.0 Command: /Library/Frameworks/R.framework/Resources/bin/R CMD build --keep-empty-dirs --no-resave-data globalSeq StartedAt: 2025-04-01 00:22:45 -0400 (Tue, 01 Apr 2025) EndedAt: 2025-04-01 00:23:02 -0400 (Tue, 01 Apr 2025) EllapsedTime: 17.1 seconds RetCode: 0 Status: OK PackageFile: globalSeq_1.34.0.tar.gz PackageFileSize: 714.9 KiB