Package: glmSparseNet Version: 1.24.0 Command: /Library/Frameworks/R.framework/Resources/bin/R CMD build --keep-empty-dirs --no-resave-data glmSparseNet StartedAt: 2025-04-01 00:18:57 -0400 (Tue, 01 Apr 2025) EndedAt: 2025-04-01 00:24:05 -0400 (Tue, 01 Apr 2025) EllapsedTime: 308.4 seconds RetCode: 0 Status: OK PackageFile: glmSparseNet_1.24.0.tar.gz PackageFileSize: 2.803 MiB