Package: girafe Version: 1.58.0 Command: /home/biocbuild/R/R/bin/R CMD build --keep-empty-dirs --no-resave-data girafe StartedAt: 2025-03-31 23:49:33 -0000 (Mon, 31 Mar 2025) EndedAt: 2025-03-31 23:50:50 -0000 (Mon, 31 Mar 2025) EllapsedTime: 77.1 seconds RetCode: 0 Status: OK PackageFile: girafe_1.58.0.tar.gz PackageFileSize: 1.522 MiB