Package: girafe Version: 1.58.0 Command: F:\biocbuild\bbs-3.20-bioc\R\bin\R.exe CMD INSTALL girafe StartedAt: 2025-03-31 16:27:26 -0400 (Mon, 31 Mar 2025) EndedAt: 2025-03-31 16:28:44 -0400 (Mon, 31 Mar 2025) EllapsedTime: 77.6 seconds RetCode: 0 Status: OK