Package: girafe Version: 1.58.0 Command: /Library/Frameworks/R.framework/Resources/bin/R CMD build --keep-empty-dirs --no-resave-data girafe StartedAt: 2025-03-31 19:02:14 -0400 (Mon, 31 Mar 2025) EndedAt: 2025-03-31 19:04:33 -0400 (Mon, 31 Mar 2025) EllapsedTime: 138.4 seconds RetCode: 0 Status: OK PackageFile: girafe_1.58.0.tar.gz PackageFileSize: 1.541 MiB