Package: ginmappeR Version: 1.2.3 Command: /home/biocbuild/R/R/bin/R CMD check --install=check:ginmappeR.install-out.txt --library=/home/biocbuild/R/R/site-library --no-vignettes --timings ginmappeR_1.2.3.tar.gz StartedAt: 2025-04-01 07:00:16 -0000 (Tue, 01 Apr 2025) EndedAt: 2025-04-01 07:06:53 -0000 (Tue, 01 Apr 2025) EllapsedTime: 397.2 seconds RetCode: 0 Status: OK CheckDir: ginmappeR.Rcheck Warnings: 0