Package: ggtreeSpace Version: 1.2.0 Command: /home/biocbuild/bbs-3.20-bioc/R/bin/R CMD build --keep-empty-dirs --no-resave-data --md5 ggtreeSpace StartedAt: 2025-03-31 17:26:23 -0400 (Mon, 31 Mar 2025) EndedAt: 2025-03-31 17:26:39 -0400 (Mon, 31 Mar 2025) EllapsedTime: 16.0 seconds RetCode: 0 Status: OK PackageFile: ggtreeSpace_1.2.0.tar.gz PackageFileSize: 521.4 KiB