Package: ggtreeSpace Version: 1.2.0 Command: /Library/Frameworks/R.framework/Resources/bin/R CMD INSTALL ggtreeSpace StartedAt: 2025-03-31 16:32:50 -0400 (Mon, 31 Mar 2025) EndedAt: 2025-03-31 16:32:57 -0400 (Mon, 31 Mar 2025) EllapsedTime: 6.7 seconds RetCode: 0 Status: OK