Package: ggtreeSpace Version: 1.2.0 Command: /Library/Frameworks/R.framework/Resources/bin/R CMD check --install=check:ggtreeSpace.install-out.txt --library=/Library/Frameworks/R.framework/Resources/library --no-vignettes --timings ggtreeSpace_1.2.0.tar.gz StartedAt: 2025-04-01 20:45:37 -0400 (Tue, 01 Apr 2025) EndedAt: 2025-04-01 20:46:56 -0400 (Tue, 01 Apr 2025) EllapsedTime: 78.3 seconds RetCode: 0 Status: WARNINGS CheckDir: ggtreeSpace.Rcheck Warnings: 1