Package: ggtreeSpace Version: 1.2.0 Command: /Library/Frameworks/R.framework/Resources/bin/R CMD build --keep-empty-dirs --no-resave-data ggtreeSpace StartedAt: 2025-04-01 00:16:05 -0400 (Tue, 01 Apr 2025) EndedAt: 2025-04-01 00:16:26 -0400 (Tue, 01 Apr 2025) EllapsedTime: 20.4 seconds RetCode: 0 Status: OK PackageFile: ggtreeSpace_1.2.0.tar.gz PackageFileSize: 530.8 KiB