Package: ggtreeExtra Version: 1.16.0 Command: /home/biocbuild/R/R/bin/R CMD INSTALL ggtreeExtra StartedAt: 2025-03-31 20:38:10 -0000 (Mon, 31 Mar 2025) EndedAt: 2025-03-31 20:38:22 -0000 (Mon, 31 Mar 2025) EllapsedTime: 11.5 seconds RetCode: 0 Status: OK