Package: ggtreeExtra Version: 1.16.0 Command: /home/biocbuild/R/R/bin/R CMD build --keep-empty-dirs --no-resave-data ggtreeExtra StartedAt: 2025-03-31 23:49:02 -0000 (Mon, 31 Mar 2025) EndedAt: 2025-03-31 23:49:30 -0000 (Mon, 31 Mar 2025) EllapsedTime: 27.1 seconds RetCode: 0 Status: OK PackageFile: ggtreeExtra_1.16.0.tar.gz PackageFileSize: 302.8 KiB