Package: ggspavis Version: 1.12.0 Command: chmod a+r ggspavis -R && F:\biocbuild\bbs-3.20-bioc\R\bin\R.exe CMD build --keep-empty-dirs --no-resave-data ggspavis StartedAt: 2025-03-31 19:15:55 -0400 (Mon, 31 Mar 2025) EndedAt: 2025-03-31 19:19:29 -0400 (Mon, 31 Mar 2025) EllapsedTime: 213.9 seconds RetCode: 0 Status: OK PackageFile: ggspavis_1.12.0.tar.gz PackageFileSize: 2.923 MiB