Package: ggspavis Version: 1.12.0 Command: /home/biocbuild/bbs-3.20-bioc/R/bin/R CMD build --keep-empty-dirs --no-resave-data --md5 ggspavis StartedAt: 2025-03-31 17:26:13 -0400 (Mon, 31 Mar 2025) EndedAt: 2025-03-31 17:27:46 -0400 (Mon, 31 Mar 2025) EllapsedTime: 93.1 seconds RetCode: 0 Status: OK PackageFile: ggspavis_1.12.0.tar.gz PackageFileSize: 5.994 MiB