Package: ggseqalign Version: 1.0.0 Command: F:\biocbuild\bbs-3.20-bioc\R\bin\R.exe CMD INSTALL ggseqalign StartedAt: 2025-03-31 15:43:58 -0400 (Mon, 31 Mar 2025) EndedAt: 2025-03-31 15:44:15 -0400 (Mon, 31 Mar 2025) EllapsedTime: 16.6 seconds RetCode: 0 Status: OK