Package: ggseqalign Version: 1.0.0 Command: rm -rf ggseqalign.buildbin-libdir && mkdir ggseqalign.buildbin-libdir && F:\biocbuild\bbs-3.20-bioc\R\bin\R.exe CMD INSTALL --build --library=ggseqalign.buildbin-libdir ggseqalign_1.0.0.tar.gz StartedAt: 2025-04-01 08:18:23 -0400 (Tue, 01 Apr 2025) EndedAt: 2025-04-01 08:18:42 -0400 (Tue, 01 Apr 2025) EllapsedTime: 19.4 seconds RetCode: 0 Status: OK PackageFile: ggseqalign_1.0.0.zip PackageFileSize: 509.4 KiB