Package: ggsc Version: 1.4.0 Command: F:\biocbuild\bbs-3.20-bioc\R\bin\R.exe CMD INSTALL ggsc StartedAt: 2025-03-31 16:40:50 -0400 (Mon, 31 Mar 2025) EndedAt: 2025-03-31 16:42:03 -0400 (Mon, 31 Mar 2025) EllapsedTime: 72.8 seconds RetCode: 0 Status: OK