Package: ggsc Version: 1.4.0 Command: /Library/Frameworks/R.framework/Resources/bin/R CMD INSTALL ggsc StartedAt: 2025-03-31 17:21:09 -0400 (Mon, 31 Mar 2025) EndedAt: 2025-03-31 17:22:07 -0400 (Mon, 31 Mar 2025) EllapsedTime: 58.0 seconds RetCode: 0 Status: OK