Package: ggmanh Version: 1.10.0 Command: /Library/Frameworks/R.framework/Resources/bin/R CMD INSTALL ggmanh StartedAt: 2025-03-31 15:42:13 -0400 (Mon, 31 Mar 2025) EndedAt: 2025-03-31 15:42:27 -0400 (Mon, 31 Mar 2025) EllapsedTime: 14.3 seconds RetCode: 0 Status: OK