Package: ggmanh Version: 1.10.0 Command: /Library/Frameworks/R.framework/Resources/bin/R CMD build --keep-empty-dirs --no-resave-data ggmanh StartedAt: 2025-04-01 00:13:48 -0400 (Tue, 01 Apr 2025) EndedAt: 2025-04-01 00:14:44 -0400 (Tue, 01 Apr 2025) EllapsedTime: 55.9 seconds RetCode: 0 Status: OK PackageFile: ggmanh_1.10.0.tar.gz PackageFileSize: 4.42 MiB