Package: ggmanh Version: 1.10.0 Command: rm -rf ggmanh.buildbin-libdir && mkdir ggmanh.buildbin-libdir && /Users/biocbuild/BBS/utils/build-universal.sh ggmanh_1.10.0.tar.gz /Library/Frameworks/R.framework/Resources/bin/R ggmanh.buildbin-libdir StartedAt: 2025-04-02 14:33:32 -0400 (Wed, 02 Apr 2025) EndedAt: 2025-04-02 14:33:40 -0400 (Wed, 02 Apr 2025) EllapsedTime: 7.8 seconds RetCode: 0 Status: OK PackageFile: ggmanh_1.10.0.tgz PackageFileSize: 4.518 MiB