Package: ggkegg Version: 1.4.1 Command: /home/biocbuild/R/R/bin/R CMD check --install=check:ggkegg.install-out.txt --library=/home/biocbuild/R/R/site-library --no-vignettes --timings ggkegg_1.4.1.tar.gz StartedAt: 2025-04-01 06:57:34 -0000 (Tue, 01 Apr 2025) EndedAt: 2025-04-01 07:04:26 -0000 (Tue, 01 Apr 2025) EllapsedTime: 411.3 seconds RetCode: 0 Status: OK CheckDir: ggkegg.Rcheck Warnings: 0