Package: ggkegg Version: 1.4.1 Command: /Library/Frameworks/R.framework/Resources/bin/R CMD build --keep-empty-dirs --no-resave-data ggkegg StartedAt: 2025-03-31 19:00:18 -0400 (Mon, 31 Mar 2025) EndedAt: 2025-03-31 19:01:33 -0400 (Mon, 31 Mar 2025) EllapsedTime: 75.2 seconds RetCode: 0 Status: OK PackageFile: ggkegg_1.4.1.tar.gz PackageFileSize: 3.471 MiB