Package: ggcyto Version: 1.34.0 Command: F:\biocbuild\bbs-3.20-bioc\R\bin\R.exe CMD INSTALL ggcyto StartedAt: 2025-03-31 15:49:36 -0400 (Mon, 31 Mar 2025) EndedAt: 2025-03-31 15:50:10 -0400 (Mon, 31 Mar 2025) EllapsedTime: 34.5 seconds RetCode: 0 Status: OK