Package: gg4way Version: 1.4.0 Command: /home/biocbuild/R/R/bin/R CMD INSTALL gg4way StartedAt: 2025-03-31 20:27:53 -0000 (Mon, 31 Mar 2025) EndedAt: 2025-03-31 20:28:28 -0000 (Mon, 31 Mar 2025) EllapsedTime: 34.4 seconds RetCode: 0 Status: OK