Package: gg4way Version: 1.4.0 Command: F:\biocbuild\bbs-3.20-bioc\R\bin\R.exe CMD INSTALL gg4way StartedAt: 2025-03-31 15:54:21 -0400 (Mon, 31 Mar 2025) EndedAt: 2025-03-31 15:54:54 -0400 (Mon, 31 Mar 2025) EllapsedTime: 33.0 seconds RetCode: 0 Status: OK