Package: gg4way Version: 1.4.0 Command: /home/biocbuild/bbs-3.20-bioc/R/bin/R CMD check --install=check:gg4way.install-out.txt --library=/home/biocbuild/bbs-3.20-bioc/R/site-library --timings gg4way_1.4.0.tar.gz StartedAt: 2025-03-31 22:34:18 -0400 (Mon, 31 Mar 2025) EndedAt: 2025-03-31 22:38:16 -0400 (Mon, 31 Mar 2025) EllapsedTime: 238.3 seconds RetCode: 0 Status: OK CheckDir: gg4way.Rcheck Warnings: 0