Package: gg4way Version: 1.4.0 Command: /Library/Frameworks/R.framework/Resources/bin/R CMD INSTALL gg4way StartedAt: 2025-03-31 15:27:32 -0400 (Mon, 31 Mar 2025) EndedAt: 2025-03-31 15:28:28 -0400 (Mon, 31 Mar 2025) EllapsedTime: 56.0 seconds RetCode: 0 Status: OK