Package: gg4way Version: 1.4.0 Command: /Library/Frameworks/R.framework/Resources/bin/R CMD build --keep-empty-dirs --no-resave-data gg4way StartedAt: 2025-03-31 19:00:15 -0400 (Mon, 31 Mar 2025) EndedAt: 2025-03-31 19:03:09 -0400 (Mon, 31 Mar 2025) EllapsedTime: 174.1 seconds RetCode: 0 Status: OK PackageFile: gg4way_1.4.0.tar.gz PackageFileSize: 2.975 MiB