Package: geva Version: 1.14.0 Command: /Library/Frameworks/R.framework/Resources/bin/R CMD INSTALL geva StartedAt: 2025-03-31 15:07:07 -0400 (Mon, 31 Mar 2025) EndedAt: 2025-03-31 15:07:27 -0400 (Mon, 31 Mar 2025) EllapsedTime: 19.7 seconds RetCode: 0 Status: OK