Package: getDEE2 Version: 1.16.2 Command: /home/biocbuild/R/R/bin/R CMD build --keep-empty-dirs --no-resave-data getDEE2 StartedAt: 2025-03-31 23:46:30 -0000 (Mon, 31 Mar 2025) EndedAt: 2025-03-31 23:51:27 -0000 (Mon, 31 Mar 2025) EllapsedTime: 296.3 seconds RetCode: 0 Status: OK PackageFile: getDEE2_1.16.2.tar.gz PackageFileSize: 22.44 KiB