Package: getDEE2 Version: 1.16.2 Command: /home/biocbuild/bbs-3.20-bioc/R/bin/R CMD check --install=check:getDEE2.install-out.txt --library=/home/biocbuild/bbs-3.20-bioc/R/site-library --timings getDEE2_1.16.2.tar.gz StartedAt: 2025-03-31 22:33:18 -0400 (Mon, 31 Mar 2025) EndedAt: 2025-03-31 22:41:58 -0400 (Mon, 31 Mar 2025) EllapsedTime: 520.6 seconds RetCode: 0 Status: OK CheckDir: getDEE2.Rcheck Warnings: 0