Package: getDEE2 Version: 1.16.2 Command: /home/biocbuild/bbs-3.20-bioc/R/bin/R CMD build --keep-empty-dirs --no-resave-data --md5 getDEE2 StartedAt: 2025-03-31 17:24:52 -0400 (Mon, 31 Mar 2025) EndedAt: 2025-03-31 17:26:47 -0400 (Mon, 31 Mar 2025) EllapsedTime: 115.2 seconds RetCode: 0 Status: OK PackageFile: getDEE2_1.16.2.tar.gz PackageFileSize: 22.64 KiB