Package: getDEE2 Version: 1.16.2 Command: rm -rf getDEE2.buildbin-libdir && mkdir getDEE2.buildbin-libdir && /Users/biocbuild/BBS/utils/build-universal.sh getDEE2_1.16.2.tar.gz /Library/Frameworks/R.framework/Resources/bin/R getDEE2.buildbin-libdir StartedAt: 2025-04-01 11:58:11 -0400 (Tue, 01 Apr 2025) EndedAt: 2025-04-01 11:58:55 -0400 (Tue, 01 Apr 2025) EllapsedTime: 44.0 seconds RetCode: 0 Status: OK PackageFile: getDEE2_1.16.2.tgz PackageFileSize: 72.89 KiB