Package: gep2pep Version: 1.26.0 Command: /Library/Frameworks/R.framework/Resources/bin/R CMD build --keep-empty-dirs --no-resave-data gep2pep StartedAt: 2025-03-31 18:59:24 -0400 (Mon, 31 Mar 2025) EndedAt: 2025-03-31 19:00:18 -0400 (Mon, 31 Mar 2025) EllapsedTime: 54.2 seconds RetCode: 0 Status: OK PackageFile: gep2pep_1.26.0.tar.gz PackageFileSize: 121.8 KiB