Package: geomeTriD Version: 1.0.1 Command: /Library/Frameworks/R.framework/Resources/bin/R CMD INSTALL geomeTriD StartedAt: 2025-03-31 16:02:45 -0400 (Mon, 31 Mar 2025) EndedAt: 2025-03-31 16:04:37 -0400 (Mon, 31 Mar 2025) EllapsedTime: 112.3 seconds RetCode: 0 Status: OK