Package: geomeTriD Version: 1.0.1 Command: /Library/Frameworks/R.framework/Resources/bin/R CMD build --keep-empty-dirs --no-resave-data geomeTriD StartedAt: 2025-03-31 18:58:42 -0400 (Mon, 31 Mar 2025) EndedAt: 2025-03-31 19:01:45 -0400 (Mon, 31 Mar 2025) EllapsedTime: 183.3 seconds RetCode: 0 Status: OK PackageFile: geomeTriD_1.0.1.tar.gz PackageFileSize: 1.382 MiB