Package: genomicInstability Version: 1.12.0 Command: /Library/Frameworks/R.framework/Resources/bin/R CMD build --keep-empty-dirs --no-resave-data genomicInstability StartedAt: 2025-04-01 00:02:52 -0400 (Tue, 01 Apr 2025) EndedAt: 2025-04-01 00:04:58 -0400 (Tue, 01 Apr 2025) EllapsedTime: 125.8 seconds RetCode: 0 Status: OK PackageFile: genomicInstability_1.12.0.tar.gz PackageFileSize: 1.211 MiB