Package: genomes Version: 3.36.0 Command: /home/biocbuild/R/R/bin/R CMD INSTALL genomes StartedAt: 2025-03-31 20:15:16 -0000 (Mon, 31 Mar 2025) EndedAt: 2025-03-31 20:15:33 -0000 (Mon, 31 Mar 2025) EllapsedTime: 16.4 seconds RetCode: 0 Status: OK