Package: genomes Version: 3.36.0 Command: F:\biocbuild\bbs-3.20-bioc\R\bin\R.exe CMD INSTALL genomes StartedAt: 2025-03-31 15:27:03 -0400 (Mon, 31 Mar 2025) EndedAt: 2025-03-31 15:27:12 -0400 (Mon, 31 Mar 2025) EllapsedTime: 9.6 seconds RetCode: 0 Status: OK