Package: genomeIntervals Version: 1.62.0 Command: chmod a+r genomeIntervals -R && F:\biocbuild\bbs-3.20-bioc\R\bin\R.exe CMD build --keep-empty-dirs --no-resave-data genomeIntervals StartedAt: 2025-03-31 19:10:59 -0400 (Mon, 31 Mar 2025) EndedAt: 2025-03-31 19:11:47 -0400 (Mon, 31 Mar 2025) EllapsedTime: 48.2 seconds RetCode: 0 Status: OK PackageFile: genomeIntervals_1.62.0.tar.gz PackageFileSize: 140.7 KiB