Package: genomeIntervals Version: 1.62.0 Command: /home/biocbuild/bbs-3.20-bioc/R/bin/R CMD check --install=check:genomeIntervals.install-out.txt --library=/home/biocbuild/bbs-3.20-bioc/R/site-library --timings genomeIntervals_1.62.0.tar.gz StartedAt: 2025-03-31 22:26:00 -0400 (Mon, 31 Mar 2025) EndedAt: 2025-03-31 22:27:30 -0400 (Mon, 31 Mar 2025) EllapsedTime: 90.1 seconds RetCode: 0 Status: WARNINGS CheckDir: genomeIntervals.Rcheck Warnings: 1