Package: genomation Version: 1.38.0 Command: /home/biocbuild/bbs-3.20-bioc/R/bin/R CMD check --install=check:genomation.install-out.txt --library=/home/biocbuild/bbs-3.20-bioc/R/site-library --timings genomation_1.38.0.tar.gz StartedAt: 2025-03-31 22:25:46 -0400 (Mon, 31 Mar 2025) EndedAt: 2025-03-31 22:31:08 -0400 (Mon, 31 Mar 2025) EllapsedTime: 322.2 seconds RetCode: 0 Status: WARNINGS CheckDir: genomation.Rcheck Warnings: 1