Package: genomation Version: 1.38.0 Command: /Library/Frameworks/R.framework/Resources/bin/R CMD INSTALL genomation StartedAt: 2025-03-31 15:34:39 -0400 (Mon, 31 Mar 2025) EndedAt: 2025-03-31 15:36:32 -0400 (Mon, 31 Mar 2025) EllapsedTime: 113.2 seconds RetCode: 0 Status: OK